Workbook
Name Excel_BuiltIn_Print_Area_5: #REF!
Name Kraje: #REF!
Name Moravskoslezký: #REF!
Name Středočeský: #REF!

Sheet Tabulky I+II
A1: Finanční plán rezidenta pro specializační vzdělávání – Tabulka I a Tabulka II | F1: RMN 2026
A3: Tabulka I – Rezident a školitel
A4: Rezident | B4: Rezident musí zahájit SV v roce poskytnutí dotace. Dotaci nelze čerpat na administrativní zahájení rezidentury.
A5: Jméno a příjmení rezidenta, včetně titulů:
A6: Obor specializačního vzdělávání
A7: Zdravotnické zařízení, vč. případné organizační složky:
A8: Úvazek rezidenta: | D8: Úvazek rezidenta musí být v rozmezí od 0,5 do 1,0.
A9: Školitel | B9: Vyplňuje pouze příjemce dotace, kde školitel je jeho zaměstnancem. Úvazek školitele musí být nejméně 0,6, není-li příslušným vzdělávacím programem dáno jinak.
A10: Jméno a příjmení školitele, včetně titulů:
A11: Zdravotnické zařízení, vč. případné organizační složky:
A12: Úvazek školitele: | D12: Úvazek školitele musí být nejméně 0,6, nebo dle vzdělávacího programu.
A14: Tabulka II – Náklady na kurzy, stáže a jiné služby
A15: Název položky | C15: Bližší specifikace | D15: Ks | E15: Cena za 1 Ks | F15: Celkem
F16: ='Tabulky I+II'!$D16*'Tabulky I+II'!$E16 -> 0
F17: ='Tabulky I+II'!$D17*'Tabulky I+II'!$E17 -> 0
F18: ='Tabulky I+II'!$D18*'Tabulky I+II'!$E18 -> 0
F19: ='Tabulky I+II'!$D19*'Tabulky I+II'!$E19 -> 0
F20: ='Tabulky I+II'!$D20*'Tabulky I+II'!$E20 -> 0
F21: ='Tabulky I+II'!$D21*'Tabulky I+II'!$E21 -> 0
F22: ='Tabulky I+II'!$D22*'Tabulky I+II'!$E22 -> 0
F23: ='Tabulky I+II'!$D23*'Tabulky I+II'!$E23 -> 0
F24: ='Tabulky I+II'!$D24*'Tabulky I+II'!$E24 -> 0
F25: ='Tabulky I+II'!$D25*'Tabulky I+II'!$E25 -> 0
F26: ='Tabulky I+II'!$D26*'Tabulky I+II'!$E26 -> 0
F27: ='Tabulky I+II'!$D27*'Tabulky I+II'!$E27 -> 0
A28: Náklady na kurzy, stáže a jiné služby celkem * | E28: =SUBTOTAL(109,'Tabulky I+II'!$F$16:$F$27) -> 0
A30: * Náklady na kurzy, stáže a jiné služby celkem musí být shodné s Hodnota ukazatele celkem u Nákladů na kurzy, stáže a jiné služby v Tabulce III.

Sheet Tabulka III
A1: Finanční plán rezidenta pro specializační vzdělávání – Tabulka III | I1: RMN 2026
A3: Tabulka III – Plán čerpání jednotlivých nákladů v letech odpovídajících vzdělávacímu plánu
A4: Rezident | B4: =IF('Tabulky I+II'!C5="","",'Tabulky I+II'!C5)
A5: Obor specializačního vzdělávání | B5: =IF('Tabulky I+II'!C6="","",'Tabulky I+II'!C6)
A6: Název ukazatele | B6: 2026 | C6: 2027 | D6: 2028 | E6: 2029 | F6: 2030 | G6: 2031 | H6: 20302 | I6: Hodnota ukazatele celkem
A7: Mzdové náklady na rezidenta | I7: =SUM(TabulkaIII[[#This Row],[2026]:[20302]]) -> 0
A8: Hrubá mzda | B8: 0 | C8: =ROUNDDOWN(C7/1.338,0) -> 0 | D8: =ROUNDDOWN(D7/1.338,0) -> 0 | E8: =ROUNDDOWN(E7/1.338,0) -> 0 | F8: =ROUNDDOWN(F7/1.338,0) -> 0 | G8: =ROUNDDOWN(G7/1.338,0) -> 0 | H8: =ROUNDDOWN(H7/1.338,0) -> 0 | I8: =SUM(TabulkaIII[[#This Row],[2026]:[20302]]) -> 0
A9: Odvody celkem | B9: 0 | C9: =ROUNDUP(C7-C8,0) -> 0 | D9: =ROUNDUP(D7-D8,0) -> 0 | E9: =ROUNDUP(E7-E8,0) -> 0 | F9: =ROUNDUP(F7-F8,0) -> 0 | G9: =ROUNDUP(G7-G8,0) -> 0 | H9: =ROUNDUP(H7-H8,0) -> 0 | I9: =SUM(TabulkaIII[[#This Row],[2026]:[20302]]) -> 0
A10: Mzdové náklady na školitele * | I10: =SUM(TabulkaIII[[#This Row],[2026]:[20302]]) -> 0
A11: Hrubá mzda | B11: =ROUNDDOWN(B10/1.338,0) -> 0 | C11: =ROUNDDOWN(C10/1.338,0) -> 0 | D11: =ROUNDDOWN(D10/1.338,0) -> 0 | E11: =ROUNDDOWN(E10/1.338,0) -> 0 | F11: =ROUNDDOWN(F10/1.338,0) -> 0 | G11: =ROUNDDOWN(G10/1.338,0) -> 0 | H11: =ROUNDDOWN(H10/1.338,0) -> 0 | I11: =SUM(TabulkaIII[[#This Row],[2026]:[20302]]) -> 0
A12: Odvody celkem | B12: =ROUNDUP(B10-B11,0) -> 0 | C12: =ROUNDUP(C10-C11,0) -> 0 | D12: =ROUNDUP(D10-D11,0) -> 0 | E12: =ROUNDUP(E10-E11,0) -> 0 | F12: =ROUNDUP(F10-F11,0) -> 0 | G12: =ROUNDUP(G10-G11,0) -> 0 | H12: =ROUNDUP(H10-H11,0) -> 0 | I12: =SUM(TabulkaIII[[#This Row],[2026]:[20302]]) -> 0
A13: Náklady na kurzy, stáže a jiné služby ** | I13: =SUM(TabulkaIII[[#This Row],[2026]:[20302]]) -> 0
A14: NEINVESTIČNÍ NÁKLADY CELKEM | B14: =SUM(B7+B10+B13) -> 0 | C14: =SUM(C7+C10+C13) -> 0 | D14: =SUM(D7+D10+D13) -> 0 | E14: =SUM(E7+E10+E13) -> 0 | F14: =SUM(F7+F10+F13) -> 0 | G14: =SUM(G7+G10+G13) -> 0 | H14: =SUM(H7+H10+H13) -> 0 | I14: =SUM(I7+I10+I13) -> 0
A16: * Vyplňuje pouze příjemce dotace, kde školitel je jeho zaměstnancem.
A17: ** Hodnota ukazatele celkem u Nákladů na kurzy, stáže a jiné služby musí být shodná s Náklady na kurzy, stáže a jiné služby celkem v Tabulce II.
A19: Jméno a příjmení zpracovatele: | F19: Podpis zpracovatele
A20: Datum vyhotovení
A22: Poznámky
