Workbook
Name FP_DU: #REF!
Name FP_HÚ: #REF!
Name míra_podpory: #REF!
Name Panel: 'Základní údaje'!#REF!
Name pozadovana_mira_podpory: #REF!
Name pravni_forma: #REF!
Name Vyberte: Panel!$A$1:$A$10
Name VYSLEDKY: #REF!

Sheet Základní údaje
A1: Základní údaje
B2: Vyplňujte modře označené buňky.
A3: Registrační číslo projektu | B3: bude doplněno poskytovatelem
A4: Program, ze kterého bude projekt v případě úspěchu financován | B4: Program na podporu zdravotnického aplikovaného výzkumu na léta 2024 - 2030 ("NW") – Podprogram 4: Podpora národních autorit v prioritních oblastech zdravotnického výzkumu
A5: Název podaného projektu česky | B5: Vyberte ze seznamu
A6: Název podaného projektu anglicky | B6: =VLOOKUP(B5,List1!A1:B6,2,0) -> 0
A7: Abstrakt podaného projektu anglicky
A8: Obecný cíl projektu česky (max. 2000 znaků)
A9: Obecný cíl projektu anglicky (max. 2000 znaků)
A10: Datum zahájení | B10: 46235
A11: Datum ukončení | B11: 47848
A12: Zařazení
A13: Klíčová slova anglicky (oddělujete středníkem)
A14: Zařazení do číselníku OECD (max. 3) | B14: Název (po výběru z rozevíracího seznamu bude automaticky doplněn) | C14: Kód (po výběru z číselníku bude automaticky doplněn)
B15: Vyberte ze seznamu | C15: =VLOOKUP(B15,OECD!$B$2:$C$210,2,0) -> 0
B16: Vyberte ze seznamu | C16: =VLOOKUP(B16,OECD!$B$2:$C$210,2,0) -> 0
B17: Vyberte ze seznamu | C17: =VLOOKUP(B17,OECD!$B$2:$C$210,2,0) -> 0
A18: Dílčí cíle tematických oblastí Programu (max. 3) | B18: Název (po výběru z rozevíracího seznamu bude automaticky doplněn) | C18: Kód (po výběru z číselníku bude automaticky doplněn)
B19: Vyberte ze seznamu | C19: =VLOOKUP(B19,'Dílčí cíle'!C2:D97,2,0) -> 0
B20: Vyberte ze seznamu | C20: =VLOOKUP(B20,'Dílčí cíle'!C2:D98,2,0) -> 0
B21: Vyberte ze seznamu | C21: =VLOOKUP(B21,'Dílčí cíle'!C2:D99,2,0) -> 0

Sheet List1
A1: Národní institut pro výzkum socioekonomických dopadů nemocí a systémových rizik | B1: National Institute for Research on Socioeconomic Impact of Diseases and Systemic Risks
A2: Národní ústav pro výzkum rakoviny | B2: National Institute for Cancer Research
A3: Národní institut virologie a bakteriologie | B3: National Institute of Virology and Bacteriology
A4: Národní institut pro výzkum metabolických a kardiovaskulárních onemocnění | B4: National Institute for Metabolic and Cardiovascular Disease Research
A5: Národní ústav pro neurologický výzkum | B5: National Institute for Neurological Research
A6: Vyberte ze seznamu | B6: 0

Sheet Uchazeč
A1: Vyplňujte všechny šedě označené buňky.
A2: Uchazeč
A3: Název uchazeče | B3: Univerzita Karlova
A4: Pracoviště | B4: 1. lékařská fakulta
A5: Sídlo
A6: IČO
A7: Druh organizace | B7: Vysoká škola
A8: Principy genderové rovnosti info zde | B8: ANO
A9: odkaz na dokument gender rovnosti | B9: https://
A10: Statutár/ři uchazeče
A11: Jméno a příjmení, role
A12: Jméno a příjmení, role
A13: Jméno a příjmení, role
A14: Administrátor uchazeče
A15: Jméno a příjmení
A16: Datum narození
A17: Email | B17: @
A18: Telefon
A19: Úvazek v projektu (ve výši 1,00)
A20: Navrhovatel
A21: Jméno a příjmení
A22: ORCID iD
A23: Datum narození
A24: Email | B24: @
A25: Telefon
A26: Úvazek v projektu (minimálně 0,4)

Sheet Finance - uchazeč
A1: Uchazeč
A3: vyplňujte šedé i modré buňky, bílé a zelené buňky se dopočítají samy
A5: Rozdělení celkových nákladů uchazeče na řešení projektu v tisících CZK (vyplňte včetně případného spolufinancování)
A6: Typ nákladu | C6: Rok 1 | D6: Rok 2 | E6: Rok 3 | F6: Rok 4 | G6: Rok 5 | H6: Celkem (tis. CZK)
A7: Osobní náklady | H7: =SUM(C7:G7) -> 0
A8: Ostatní provozní náklady | H8: =SUM(C8:G8) -> 0
A9: Náklady na pořízení dlouhodobého majetku | H9: =SUM(C9:G9) -> 0
A10: Doplňkové náklady | H10: =SUM(C10:G10) -> 0
A11: Celkové náklady uchazeče | C11: =SUM(C7:C10) -> 0 | D11: =SUM(D7:D10) -> 0 | E11: =SUM(E7:E10) -> 0 | F11: =SUM(F7:F10) -> 0 | G11: =SUM(G7:G10) -> 0 | H11: =SUM(C11:G11) -> 0
A12: z toho požadované účelové | C12: =C11*SUM($B$42:$E$42) -> 0 | D12: =D11*SUM($B$42:$E$42) -> 0 | E12: =E11*SUM($B$42:$E$42) -> 0 | F12: =F11*SUM($B$42:$E$42) -> 0 | G12: =G11*SUM($B$42:$E$42) -> 0 | H12: =SUM(C12:G12) -> 0
A15: Info: Maximální intenzita podpory a podíly kategorií výzkumu
A16: Typ organizace uchazeče -> | B16: Výzkumná organizace | C16: Malý podnik | D16: Střední podnik | E16: Velký podnik | F16: Vyberte, jaký jste typ organizace
A17: Základní výzkum | B17: 1 | C17: 1 | D17: 1 | E17: 1 | F17: Zaškrtněte v políčku pouze jednu platnou hodnotu
A18: Průmyslový výzkum (aplikovaný) | B18: 1 | C18: 0.7 | D18: 0.6 | E18: 0.5 | F18: Výzkumná organizace | G18: =IF(H18=TRUE,"ANO","NE") -> ANO | H18: TRUE
A19: Průmyslový výzkum (aplikovaný) při splnění podmínek | B19: 1 | C19: 0.8 | D19: 0.75 | E19: 0.65 | F19: Malý podnik | G19: =IF(H19=TRUE,"ANO","NE") -> NE | H19: FALSE
A20: Experimentální vývoj | B20: 1 | C20: 0.45 | D20: 0.35 | E20: 0.25 | F20: Střední podnik | G20: =IF(H20=TRUE,"ANO","NE") -> NE | H20: FALSE
A21: Experimentální vývoj při splnění podmínek | B21: 1 | C21: 0.6 | D21: 0.5 | E21: 0.4 | F21: Velký podnik | G21: =IF(H21=TRUE,"ANO","NE") -> NE | H21: FALSE
F22: Je platná skutečně pouze jedna hodnota? Pokud ne, opravte | H22: =IF(H11>0,COUNTIF(G17:G21,"ANO")=1,0) -> 0
A24: Vyplňte celkové náklady uchazeče (tj. vč. příp. spolufinancování institucí) dle typu výzkumu v tisících CZK
A25: Typ kategorie výzkumu | B25: Celkem (tis. CZK)
A26: Základní výzkum
A27: Průmyslový výzkum (aplikovaný)
A28: Průmyslový výzkum (aplikovaný) při splnění podmínek
A29: Experimentální vývoj
A30: Experimentální vývoj při splnění podmínek
A31: Celkové náklady uchazeč | B31: =IF(SUM(B26:B30)=H11,H11,"nerovná se, opravte") -> 0
A34: V této části se automaticky dopočítá maximální intenzita podpory (tento výpočet slouží jako podklad pro stanovení maximální požadované účelové podpory).
A35: Typ organizace uchazeče -> | B35: Výzkumná organizace | C35: Malý podnik | D35: Střední podnik | E35: Velký podnik
A36: Základní výzkum | B36: =IF($H$18=TRUE,B26*B17,0) -> 0 | C36: =IF($H$19=TRUE,$B26*C17,0) -> 0 | D36: =IF($H$20=TRUE,$B26*D17,0) -> 0 | E36: =IF($H$21=TRUE,$B26*E17,0) -> 0
A37: Průmyslový výzkum (aplikovaný) | B37: =IF($H$18=TRUE,B27*B18,0) -> 0 | C37: =IF($H$19=TRUE,$B27*C18,0) -> 0 | D37: =IF($H$20=TRUE,$B27*D18,0) -> 0 | E37: =IF($H$21=TRUE,$B27*E18,0) -> 0
A38: Průmyslový výzkum (aplikovaný) při splnění podmínek | B38: =IF($H$18=TRUE,B28*B19,0) -> 0 | C38: =IF($H$19=TRUE,$B28*C19,0) -> 0 | D38: =IF($H$20=TRUE,$B28*D19,0) -> 0 | E38: =IF($H$21=TRUE,$B28*E19,0) -> 0
A39: Experimentální vývoj | B39: =IF($H$18=TRUE,B29*B20,0) -> 0 | C39: =IF($H$19=TRUE,$B29*C20,0) -> 0 | D39: =IF($H$20=TRUE,$B29*D20,0) -> 0 | E39: =IF($H$21=TRUE,$B29*E20,0) -> 0
A40: Experimentální vývoj při splnění podmínek | B40: =IF($H$18=TRUE,B30*B21,0) -> 0 | C40: =IF($H$19=TRUE,$B30*C21,0) -> 0 | D40: =IF($H$20=TRUE,$B30*D21,0) -> 0 | E40: =IF($H$21=TRUE,$B30*E21,0) -> 0
A41: Maximální podpořená částka v CZK (maximální možná účelová podpora) | B41: =SUM(B36:B40) -> 0 | C41: =SUM(C36:C40) -> 0 | D41: =SUM(D36:D40) -> 0 | E41: =SUM(E36:E40) -> 0
A42: Maximální intenzita podpory v % | B42: =IF(B31=0,0,B41/B31*1) -> 0 | C42: =IF(B31=0,0,C41/B31*1) -> 0 | D42: =IF(B31=0,0,D41/B31*1) -> 0 | E42: =IF(B31=0,0,E41/B31*1) -> 0
A45: Finanční zajištění projektu uchazeče v tis. CZK (pokud bude projekt dofinancován i z jiných zdrojů, vyplňte šedivé buňky v této tabulce)
A46: Typ finančního zajištění | B46: Druh | C46: Rok 1 | D46: Rok 2 | E46: Rok 3 | F46: Rok 4 | G46: Rok 5 | H46: Celkem
A47: Celková dotace poskytovatele na projekt | B47: x | C47: =C12 -> 0 | D47: =D12 -> 0 | E47: =E12 -> 0 | F47: =F12 -> 0 | G47: =G12 -> 0 | H47: =SUM(C47:G47) -> 0
A48: Podpora z ostatních veřejných zdrojů (tuzemských i zahraničních) | B48: Neinvestiční | H48: =SUM(C48:G48) -> 0
A49: Podpora z ostatních veřejných zdrojů (tuzemských i zahraničních) | B49: Investiční | H49: =SUM(C49:E49) -> 0
...

Sheet Spoluuchazeči
A1: Vyplňujte všechny šedě označené buňky.
A2: Spoluuchazeč | B2: vystupuje jako (vyberte ze seznamu):
A3: Název uchazeče
A4: Pracoviště
A5: Sídlo
A6: IČO
A7: Druh organizace
A8: Principy genderové rovnosti info zde
A9: odkaz na dokument gender rovnosti | B9: https://
A10: Statutár/ři spoluuchazeče
A11: Jméno a příjmení, role
A12: Jméno a příjmení, role
A13: Jméno a příjmení, role
A14: Administrátor spoluuchazeče
A15: Jméno a příjmení
A16: Datum narození
A17: Email | B17: @
A18: Telefon
A19: Úvazek v projektu
A20: Spolunavrhovatel
A21: Jméno a příjmení
A22: ORCID iD
A23: Datum narození
A24: Email | B24: @
A25: Telefon
A26: Úvazek v projektu (minimálně 0,1)
A29: Vyplňujte všechny šedě označené buňky.
A30: Spoluuchazeč | B30: vystupuje jako (vyberte ze seznamu):
A31: Název uchazeče
A32: Pracoviště
A33: Sídlo
A34: IČO
A35: Druh organizace
A36: Principy genderové rovnosti info zde
A37: odkaz na dokument gender rovnosti | B37: https://
A38: Statutár/ři spoluuchazeče
A39: Jméno a příjmení, role
A40: Jméno a příjmení, role
A41: Jméno a příjmení, role
A42: Administrátor spoluuchazeče
...

Sheet List2
A1: člen konsorcia
A2: VO v působnosti MZd
A3: pacientská organizace
A4: jiný smluvní partner
A5: vystupuje jako (vyberte ze seznamu):

Sheet Finance - spoluuchazeči
A1: Spoluuchazeč 1
A3: vyplňujte šedé i modré buňky, bílé a zelené buňky se dopočítají samy
A5: Rozdělení celkových nákladů uchazeče na řešení projektu v tisících CZK (vyplňte včetně případného spolufinancování)
A6: Typ nákladu | C6: Rok 1 | D6: Rok 2 | E6: Rok 3 | F6: Rok 4 | G6: Rok 5 | H6: Celkem (tis. CZK)
A7: Osobní náklady | H7: =SUM(C7:G7) -> 0
A8: Ostatní provozní náklady | H8: =SUM(C8:G8) -> 0
A9: Náklady na pořízení dlouhodobého majetku | H9: =SUM(C9:G9) -> 0
A10: Doplňkové náklady | H10: =SUM(C10:G10) -> 0
A11: Celkové náklady uchazeče | C11: =SUM(C7:C10) -> 0 | D11: =SUM(D7:D10) -> 0 | E11: =SUM(E7:E10) -> 0 | F11: =SUM(F7:F10) -> 0 | G11: =SUM(G7:G10) -> 0 | H11: =SUM(C11:G11) -> 0
A12: z toho požadované účelové | C12: =C11*SUM($B42:$E42) -> 0 | D12: =D11*SUM($B42:$E42) -> 0 | E12: =E11*SUM($B42:$E42) -> 0 | F12: =F11*SUM($B42:$E42) -> 0 | G12: =G11*SUM($B42:$E42) -> 0 | H12: =SUM(C12:G12) -> 0
A15: Info: Maximální intenzita podpory a podíly kategorií výzkumu
A16: Typ organizace uchazeče -> | B16: Výzkumná organizace | C16: Malý podnik | D16: Střední podnik | E16: Velký podnik | F16: Vyberte, jaký jste typ organizace
A17: Základní výzkum | B17: 1 | C17: 1 | D17: 1 | E17: 1 | F17: Zaškrtněte v políčku pouze jednu platnou hodnotu
A18: Průmyslový výzkum (aplikovaný) | B18: 1 | C18: 0.7 | D18: 0.6 | E18: 0.5 | F18: Výzkumná organizace | G18: =IF(H18=TRUE,"ANO","NE") -> ANO | H18: TRUE
A19: Průmyslový výzkum (aplikovaný) při splnění podmínek | B19: 1 | C19: 0.8 | D19: 0.75 | E19: 0.65 | F19: Malý podnik | G19: =IF(H19=TRUE,"ANO","NE") -> NE | H19: FALSE
A20: Experimentální vývoj | B20: 1 | C20: 0.45 | D20: 0.35 | E20: 0.25 | F20: Střední podnik | G20: =IF(H20=TRUE,"ANO","NE") -> NE | H20: FALSE
A21: Experimentální vývoj při splnění podmínek | B21: 1 | C21: 0.6 | D21: 0.5 | E21: 0.4 | F21: Velký podnik | G21: =IF(H21=TRUE,"ANO","NE") -> NE | H21: FALSE
F22: Je platná skutečně pouze jedna hodnota? Pokud ne, opravte | H22: =IF(H11>0,COUNTIF(G17:G21,"ANO")=1,0) -> 0
A24: Vyplňte celkové náklady uchazeče (tj. vč. příp. spolufinancování institucí) dle typu výzkumu v tisících CZK
A25: Typ kategorie výzkumu | B25: Celkem (tis. CZK)
A26: Základní výzkum
A27: Průmyslový výzkum (aplikovaný)
A28: Průmyslový výzkum (aplikovaný) při splnění podmínek
A29: Experimentální vývoj
A30: Experimentální vývoj při splnění podmínek
A31: Celkové náklady uchazeč | B31: =IF(SUM(B26:B30)=H11,H11,"nerovná se, opravte") -> 0
A34: V této části se automaticky dopočítá maximální intenzita podpory (tento výpočet slouží jako podklad pro stanovení maximální požadované účelové podpory).
A35: Typ organizace uchazeče -> | B35: Výzkumná organizace | C35: Malý podnik | D35: Střední podnik | E35: Velký podnik
A36: Základní výzkum | B36: =IF($H$18=TRUE,B26*B17,0) -> 0 | C36: =IF($H$19=TRUE,$B26*C17,0) -> 0 | D36: =IF($H$20=TRUE,$B26*D17,0) -> 0 | E36: =IF($H$21=TRUE,$B26*E17,0) -> 0
A37: Průmyslový výzkum (aplikovaný) | B37: =IF($H$18=TRUE,B27*B18,0) -> 0 | C37: =IF($H$19=TRUE,$B27*C18,0) -> 0 | D37: =IF($H$20=TRUE,$B27*D18,0) -> 0 | E37: =IF($H$21=TRUE,$B27*E18,0) -> 0
A38: Průmyslový výzkum (aplikovaný) při splnění podmínek | B38: =IF($H$18=TRUE,B28*B19,0) -> 0 | C38: =IF($H$19=TRUE,$B28*C19,0) -> 0 | D38: =IF($H$20=TRUE,$B28*D19,0) -> 0 | E38: =IF($H$21=TRUE,$B28*E19,0) -> 0
A39: Experimentální vývoj | B39: =IF($H$18=TRUE,B29*B20,0) -> 0 | C39: =IF($H$19=TRUE,$B29*C20,0) -> 0 | D39: =IF($H$20=TRUE,$B29*D20,0) -> 0 | E39: =IF($H$21=TRUE,$B29*E20,0) -> 0
A40: Experimentální vývoj při splnění podmínek | B40: =IF($H$18=TRUE,B30*B21,0) -> 0 | C40: =IF($H$19=TRUE,$B30*C21,0) -> 0 | D40: =IF($H$20=TRUE,$B30*D21,0) -> 0 | E40: =IF($H$21=TRUE,$B30*E21,0) -> 0
A41: Maximální podpořená částka v CZK (maximální možná účelová podpora) | B41: =SUM(B36:B40) -> 0 | C41: =SUM(C36:C40) -> 0 | D41: =SUM(D36:D40) -> 0 | E41: =SUM(E36:E40) -> 0
A42: Maximální intenzita podpory v % | B42: =IF(B31=0,0,B41/B31*1) -> 0 | C42: =IF(B31=0,0,C41/B31*1) -> 0 | D42: =IF(B31=0,0,D41/B31*1) -> 0 | E42: =IF(B31=0,0,E41/B31*1) -> 0
A45: Finanční zajištění projektu uchazeče v tisících CZK (pokud bude projekt dofinancován i z jiných zdrojů, vyplňte šedivé buňky v této tabulce)
A46: Typ finančního zajištění | B46: Druh | C46: Rok 1 | D46: Rok 2 | E46: Rok 3 | F46: Rok 4 | G46: Rok 5 | H46: Celkem
A47: Celková dotace poskytovatele na projekt | B47: x | C47: =C12 -> 0 | D47: =D12 -> 0 | E47: =E12 -> 0 | F47: =F12 -> 0 | G47: =G12 -> 0 | H47: =SUM(C47:G47) -> 0
A48: Podpora z ostatních veřejných zdrojů (tuzemských i zahraničních) | B48: Neinvestiční | H48: =SUM(C48:G48) -> 0
A49: Podpora z ostatních veřejných zdrojů (tuzemských i zahraničních) | B49: Investiční | H49: =SUM(C49:G49) -> 0
...

Sheet Celkové náklady
A1: Celkové náklady
A2: automaticky dopočítáno, zkontrolujte
A4: Rozdělení celkových nákladů na řešení projektu v CZK (vč. příp. spolufinancování institucí)
A5: Typ nákladu | C5: Rok 1 | D5: Rok 2 | E5: Rok 3 | F5: Rok 4 | G5: Rok 5 | H5: Celkem | J5: KONTROLA
A6: Osobní náklady | C6: ='Finance - uchazeč'!C7+'Finance - spoluuchazeči'!C7+'Finance - spoluuchazeči'!C61+'Finance - spoluuchazeči'!C115+'Finance - spoluuchazeči'!C169+'Finance - spoluuchazeči'!C223+'Finance - spoluuchazeči'!C277+'Finance - spoluuchazeči'!C331+'Finance - spoluuchazeči'!C385+'Finance - spoluuchazeči'!C439+'Finance - spoluuchazeči'!C493+'Finance - spoluuchazeči'!C547+'Finance - spoluuchazeči'!C601+'Finance - spoluuchazeči'!C655+'Finance - spoluuchazeči'!C709 -> 0 | D6: ='Finance - uchazeč'!D7+'Finance - spoluuchazeči'!D7+'Finance - spoluuchazeči'!D61+'Finance - spoluuchazeči'!D115+'Finance - spoluuchazeči'!D169+'Finance - spoluuchazeči'!D223+'Finance - spoluuchazeči'!D277+'Finance - spoluuchazeči'!D331+'Finance - spoluuchazeči'!D385+'Finance - spoluuchazeči'!D439+'Finance - spoluuchazeči'!D493+'Finance - spoluuchazeči'!D547+'Finance - spoluuchazeči'!D601+'Finance - spoluuchazeči'!D655+'Finance - spoluuchazeči'!D709 -> 0 | E6: ='Finance - uchazeč'!E7+'Finance - spoluuchazeči'!E7+'Finance - spoluuchazeči'!E61+'Finance - spoluuchazeči'!E115+'Finance - spoluuchazeči'!E169+'Finance - spoluuchazeči'!E223+'Finance - spoluuchazeči'!E277+'Finance - spoluuchazeči'!E331+'Finance - spoluuchazeči'!E385+'Finance - spoluuchazeči'!E439+'Finance - spoluuchazeči'!E493+'Finance - spoluuchazeči'!E547+'Finance - spoluuchazeči'!E601+'Finance - spoluuchazeči'!E655+'Finance - spoluuchazeči'!E709 -> 0 | F6: ='Finance - uchazeč'!F7+'Finance - spoluuchazeči'!F7+'Finance - spoluuchazeči'!F61+'Finance - spoluuchazeči'!F115+'Finance - spoluuchazeči'!F169+'Finance - spoluuchazeči'!F223+'Finance - spoluuchazeči'!F277+'Finance - spoluuchazeči'!F331+'Finance - spoluuchazeči'!F385+'Finance - spoluuchazeči'!F439+'Finance - spoluuchazeči'!F493+'Finance - spoluuchazeči'!F547+'Finance - spoluuchazeči'!F601+'Finance - spoluuchazeči'!F655+'Finance - spoluuchazeči'!F709 -> 0 | G6: ='Finance - uchazeč'!G7+'Finance - spoluuchazeči'!G7+'Finance - spoluuchazeči'!G61+'Finance - spoluuchazeči'!G115+'Finance - spoluuchazeči'!G169+'Finance - spoluuchazeči'!G223+'Finance - spoluuchazeči'!G277+'Finance - spoluuchazeči'!G331+'Finance - spoluuchazeči'!G385+'Finance - spoluuchazeči'!G439+'Finance - spoluuchazeči'!G493+'Finance - spoluuchazeči'!G547+'Finance - spoluuchazeči'!G601+'Finance - spoluuchazeči'!G655+'Finance - spoluuchazeči'!G709 -> 0 | H6: =SUM(C6:G6) -> 0
A7: Ostatní provozní náklady | C7: ='Finance - uchazeč'!C8+'Finance - spoluuchazeči'!C8+'Finance - spoluuchazeči'!C62+'Finance - spoluuchazeči'!C116+'Finance - spoluuchazeči'!C170+'Finance - spoluuchazeči'!C224+'Finance - spoluuchazeči'!C278+'Finance - spoluuchazeči'!C332+'Finance - spoluuchazeči'!C386+'Finance - spoluuchazeči'!C440+'Finance - spoluuchazeči'!C494+'Finance - spoluuchazeči'!C548+'Finance - spoluuchazeči'!C602+'Finance - spoluuchazeči'!C656+'Finance - spoluuchazeči'!C710 -> 0 | D7: ='Finance - uchazeč'!D8+'Finance - spoluuchazeči'!D8+'Finance - spoluuchazeči'!D62+'Finance - spoluuchazeči'!D116+'Finance - spoluuchazeči'!D170+'Finance - spoluuchazeči'!D224+'Finance - spoluuchazeči'!D278+'Finance - spoluuchazeči'!D332+'Finance - spoluuchazeči'!D386+'Finance - spoluuchazeči'!D440+'Finance - spoluuchazeči'!D494+'Finance - spoluuchazeči'!D548+'Finance - spoluuchazeči'!D602+'Finance - spoluuchazeči'!D656+'Finance - spoluuchazeči'!D710 -> 0 | E7: ='Finance - uchazeč'!E8+'Finance - spoluuchazeči'!E8+'Finance - spoluuchazeči'!E62+'Finance - spoluuchazeči'!E116+'Finance - spoluuchazeči'!E170+'Finance - spoluuchazeči'!E224+'Finance - spoluuchazeči'!E278+'Finance - spoluuchazeči'!E332+'Finance - spoluuchazeči'!E386+'Finance - spoluuchazeči'!E440+'Finance - spoluuchazeči'!E494+'Finance - spoluuchazeči'!E548+'Finance - spoluuchazeči'!E602+'Finance - spoluuchazeči'!E656+'Finance - spoluuchazeči'!E710 -> 0 | F7: ='Finance - uchazeč'!F8+'Finance - spoluuchazeči'!F8+'Finance - spoluuchazeči'!F62+'Finance - spoluuchazeči'!F116+'Finance - spoluuchazeči'!F170+'Finance - spoluuchazeči'!F224+'Finance - spoluuchazeči'!F278+'Finance - spoluuchazeči'!F332+'Finance - spoluuchazeči'!F386+'Finance - spoluuchazeči'!F440+'Finance - spoluuchazeči'!F494+'Finance - spoluuchazeči'!F548+'Finance - spoluuchazeči'!F602+'Finance - spoluuchazeči'!F656+'Finance - spoluuchazeči'!F710 -> 0 | G7: ='Finance - uchazeč'!G8+'Finance - spoluuchazeči'!G8+'Finance - spoluuchazeči'!G62+'Finance - spoluuchazeči'!G116+'Finance - spoluuchazeči'!G170+'Finance - spoluuchazeči'!G224+'Finance - spoluuchazeči'!G278+'Finance - spoluuchazeči'!G332+'Finance - spoluuchazeči'!G386+'Finance - spoluuchazeči'!G440+'Finance - spoluuchazeči'!G494+'Finance - spoluuchazeči'!G548+'Finance - spoluuchazeči'!G602+'Finance - spoluuchazeči'!G656+'Finance - spoluuchazeči'!G710 -> 0 | H7: =SUM(C7:G7) -> 0 | J7: Celkové náklady?
A8: Náklady na pořízení dlouhodobého majetku | C8: ='Finance - uchazeč'!C9+'Finance - spoluuchazeči'!C9+'Finance - spoluuchazeči'!C63+'Finance - spoluuchazeči'!C117+'Finance - spoluuchazeči'!C171+'Finance - spoluuchazeči'!C225+'Finance - spoluuchazeči'!C279+'Finance - spoluuchazeči'!C333+'Finance - spoluuchazeči'!C387+'Finance - spoluuchazeči'!C441+'Finance - spoluuchazeči'!C495+'Finance - spoluuchazeči'!C549+'Finance - spoluuchazeči'!C603+'Finance - spoluuchazeči'!C657+'Finance - spoluuchazeči'!C711 -> 0 | D8: ='Finance - uchazeč'!D9+'Finance - spoluuchazeči'!D9+'Finance - spoluuchazeči'!D63+'Finance - spoluuchazeči'!D117+'Finance - spoluuchazeči'!D171+'Finance - spoluuchazeči'!D225+'Finance - spoluuchazeči'!D279+'Finance - spoluuchazeči'!D333+'Finance - spoluuchazeči'!D387+'Finance - spoluuchazeči'!D441+'Finance - spoluuchazeči'!D495+'Finance - spoluuchazeči'!D549+'Finance - spoluuchazeči'!D603+'Finance - spoluuchazeči'!D657+'Finance - spoluuchazeči'!D711 -> 0 | E8: ='Finance - uchazeč'!E9+'Finance - spoluuchazeči'!E9+'Finance - spoluuchazeči'!E63+'Finance - spoluuchazeči'!E117+'Finance - spoluuchazeči'!E171+'Finance - spoluuchazeči'!E225+'Finance - spoluuchazeči'!E279+'Finance - spoluuchazeči'!E333+'Finance - spoluuchazeči'!E387+'Finance - spoluuchazeči'!E441+'Finance - spoluuchazeči'!E495+'Finance - spoluuchazeči'!E549+'Finance - spoluuchazeči'!E603+'Finance - spoluuchazeči'!E657+'Finance - spoluuchazeči'!E711 -> 0 | F8: ='Finance - uchazeč'!F9+'Finance - spoluuchazeči'!F9+'Finance - spoluuchazeči'!F63+'Finance - spoluuchazeči'!F117+'Finance - spoluuchazeči'!F171+'Finance - spoluuchazeči'!F225+'Finance - spoluuchazeči'!F279+'Finance - spoluuchazeči'!F333+'Finance - spoluuchazeči'!F387+'Finance - spoluuchazeči'!F441+'Finance - spoluuchazeči'!F495+'Finance - spoluuchazeči'!F549+'Finance - spoluuchazeči'!F603+'Finance - spoluuchazeči'!F657+'Finance - spoluuchazeči'!F711 -> 0 | G8: ='Finance - uchazeč'!G9+'Finance - spoluuchazeči'!G9+'Finance - spoluuchazeči'!G63+'Finance - spoluuchazeči'!G117+'Finance - spoluuchazeči'!G171+'Finance - spoluuchazeči'!G225+'Finance - spoluuchazeči'!G279+'Finance - spoluuchazeči'!G333+'Finance - spoluuchazeči'!G387+'Finance - spoluuchazeči'!G441+'Finance - spoluuchazeči'!G495+'Finance - spoluuchazeči'!G549+'Finance - spoluuchazeči'!G603+'Finance - spoluuchazeči'!G657+'Finance - spoluuchazeči'!G711 -> 0 | H8: =SUM(C8:G8) -> 0 | K8: =IF(L8+M8+N8-L8-M8-N8=0,"OK","CHYBA") -> OK | L8: =H10 -> 0 | M8: =SUM(C10:G10) -> 0 | N8: =SUM(B16:B20) -> 0
A9: Doplňkové náklady | C9: ='Finance - uchazeč'!C10+'Finance - spoluuchazeči'!C10+'Finance - spoluuchazeči'!C64+'Finance - spoluuchazeči'!C118+'Finance - spoluuchazeči'!C172+'Finance - spoluuchazeči'!C226+'Finance - spoluuchazeči'!C280+'Finance - spoluuchazeči'!C334+'Finance - spoluuchazeči'!C388+'Finance - spoluuchazeči'!C442+'Finance - spoluuchazeči'!C496+'Finance - spoluuchazeči'!C550+'Finance - spoluuchazeči'!C604+'Finance - spoluuchazeči'!C658+'Finance - spoluuchazeči'!C712 -> 0 | D9: ='Finance - uchazeč'!D10+'Finance - spoluuchazeči'!D10+'Finance - spoluuchazeči'!D64+'Finance - spoluuchazeči'!D118+'Finance - spoluuchazeči'!D172+'Finance - spoluuchazeči'!D226+'Finance - spoluuchazeči'!D280+'Finance - spoluuchazeči'!D334+'Finance - spoluuchazeči'!D388+'Finance - spoluuchazeči'!D442+'Finance - spoluuchazeči'!D496+'Finance - spoluuchazeči'!D550+'Finance - spoluuchazeči'!D604+'Finance - spoluuchazeči'!D658+'Finance - spoluuchazeči'!D712 -> 0 | E9: ='Finance - uchazeč'!E10+'Finance - spoluuchazeči'!E10+'Finance - spoluuchazeči'!E64+'Finance - spoluuchazeči'!E118+'Finance - spoluuchazeči'!E172+'Finance - spoluuchazeči'!E226+'Finance - spoluuchazeči'!E280+'Finance - spoluuchazeči'!E334+'Finance - spoluuchazeči'!E388+'Finance - spoluuchazeči'!E442+'Finance - spoluuchazeči'!E496+'Finance - spoluuchazeči'!E550+'Finance - spoluuchazeči'!E604+'Finance - spoluuchazeči'!E658+'Finance - spoluuchazeči'!E712 -> 0 | F9: ='Finance - uchazeč'!F10+'Finance - spoluuchazeči'!F10+'Finance - spoluuchazeči'!F64+'Finance - spoluuchazeči'!F118+'Finance - spoluuchazeči'!F172+'Finance - spoluuchazeči'!F226+'Finance - spoluuchazeči'!F280+'Finance - spoluuchazeči'!F334+'Finance - spoluuchazeči'!F388+'Finance - spoluuchazeči'!F442+'Finance - spoluuchazeči'!F496+'Finance - spoluuchazeči'!F550+'Finance - spoluuchazeči'!F604+'Finance - spoluuchazeči'!F658+'Finance - spoluuchazeči'!F712 -> 0 | G9: ='Finance - uchazeč'!G10+'Finance - spoluuchazeči'!G10+'Finance - spoluuchazeči'!G64+'Finance - spoluuchazeči'!G118+'Finance - spoluuchazeči'!G172+'Finance - spoluuchazeči'!G226+'Finance - spoluuchazeči'!G280+'Finance - spoluuchazeči'!G334+'Finance - spoluuchazeči'!G388+'Finance - spoluuchazeči'!G442+'Finance - spoluuchazeči'!G496+'Finance - spoluuchazeči'!G550+'Finance - spoluuchazeči'!G604+'Finance - spoluuchazeči'!G658+'Finance - spoluuchazeči'!G712 -> 0 | H9: =SUM(C9:G9) -> 0
A10: Celkové náklady uchazeče | C10: =SUM(C6:C9) -> 0 | D10: =SUM(D6:D9) -> 0 | E10: =SUM(E6:E9) -> 0 | F10: =SUM(F6:F9) -> 0 | G10: =SUM(G6:G9) -> 0 | H10: ='Finance - uchazeč'!H11+'Finance - spoluuchazeči'!H11+'Finance - spoluuchazeči'!H65+'Finance - spoluuchazeči'!H119+'Finance - spoluuchazeči'!H173+'Finance - spoluuchazeči'!H227+'Finance - spoluuchazeči'!H281+'Finance - spoluuchazeči'!H335+'Finance - spoluuchazeči'!H389+'Finance - spoluuchazeči'!H443+'Finance - spoluuchazeči'!H497+'Finance - spoluuchazeči'!H551+'Finance - spoluuchazeči'!H605+'Finance - spoluuchazeči'!H659+'Finance - spoluuchazeči'!H713 -> 0 | J10: Doplňkové náklady zkontrolovány?
A11: z toho požadované účelové | C11: ='Finance - uchazeč'!C12+'Finance - spoluuchazeči'!C12+'Finance - spoluuchazeči'!C66+'Finance - spoluuchazeči'!C120+'Finance - spoluuchazeči'!C174+'Finance - spoluuchazeči'!C228+'Finance - spoluuchazeči'!C282+'Finance - spoluuchazeči'!C336+'Finance - spoluuchazeči'!C390+'Finance - spoluuchazeči'!C444+'Finance - spoluuchazeči'!C498+'Finance - spoluuchazeči'!C552+'Finance - spoluuchazeči'!C606+'Finance - spoluuchazeči'!C660+'Finance - spoluuchazeči'!C714 -> 0 | D11: ='Finance - uchazeč'!D12+'Finance - spoluuchazeči'!D12+'Finance - spoluuchazeči'!D66+'Finance - spoluuchazeči'!D120+'Finance - spoluuchazeči'!D174+'Finance - spoluuchazeči'!D228+'Finance - spoluuchazeči'!D282+'Finance - spoluuchazeči'!D336+'Finance - spoluuchazeči'!D390+'Finance - spoluuchazeči'!D444+'Finance - spoluuchazeči'!D498+'Finance - spoluuchazeči'!D552+'Finance - spoluuchazeči'!D606+'Finance - spoluuchazeči'!D660+'Finance - spoluuchazeči'!D714 -> 0 | E11: ='Finance - uchazeč'!E12+'Finance - spoluuchazeči'!E12+'Finance - spoluuchazeči'!E66+'Finance - spoluuchazeči'!E120+'Finance - spoluuchazeči'!E174+'Finance - spoluuchazeči'!E228+'Finance - spoluuchazeči'!E282+'Finance - spoluuchazeči'!E336+'Finance - spoluuchazeči'!E390+'Finance - spoluuchazeči'!E444+'Finance - spoluuchazeči'!E498+'Finance - spoluuchazeči'!E552+'Finance - spoluuchazeči'!E606+'Finance - spoluuchazeči'!E660+'Finance - spoluuchazeči'!E714 -> 0 | F11: ='Finance - uchazeč'!F12+'Finance - spoluuchazeči'!F12+'Finance - spoluuchazeči'!F66+'Finance - spoluuchazeči'!F120+'Finance - spoluuchazeči'!F174+'Finance - spoluuchazeči'!F228+'Finance - spoluuchazeči'!F282+'Finance - spoluuchazeči'!F336+'Finance - spoluuchazeči'!F390+'Finance - spoluuchazeči'!F444+'Finance - spoluuchazeči'!F498+'Finance - spoluuchazeči'!F552+'Finance - spoluuchazeči'!F606+'Finance - spoluuchazeči'!F660+'Finance - spoluuchazeči'!F714 -> 0 | G11: ='Finance - uchazeč'!G12+'Finance - spoluuchazeči'!G12+'Finance - spoluuchazeči'!G66+'Finance - spoluuchazeči'!G120+'Finance - spoluuchazeči'!G174+'Finance - spoluuchazeči'!G228+'Finance - spoluuchazeči'!G282+'Finance - spoluuchazeči'!G336+'Finance - spoluuchazeči'!G390+'Finance - spoluuchazeči'!G444+'Finance - spoluuchazeči'!G498+'Finance - spoluuchazeči'!G552+'Finance - spoluuchazeči'!G606+'Finance - spoluuchazeči'!G660+'Finance - spoluuchazeči'!G714 -> 0 | H11: =SUM(C11:G11) -> 0 | L11: =IF(H9/(H8+H7+H6)>0.2,"CHYBA","OK") -> #DIV/0! | M11: =H9/(H8+H7+H6) -> #DIV/0!
J13: Míra intenzity odpovídá?
A14: Souhrn celkových nákladů uchazeče (tj. vč. příp. spolufinancování institucí) dle typu výzkumu v CZK | J14: 0 | L14: ='Finance - uchazeč'!B53 -> 0 | M14: =IF(L14>0,1,0) -> 0 | N14: ='Finance - uchazeč'!H12 -> 0
A15: Typ kategorie výzkumu | B15: Celkem (CZK) | J15: 1 | L15: ='Finance - spoluuchazeči'!B53 -> 0 | M15: =IF(L15>0,1,0) -> 0 | N15: ='Finance - spoluuchazeči'!H12 -> 0
A16: Základní výzkum | B16: ='Finance - uchazeč'!B26+'Finance - spoluuchazeči'!B26+'Finance - spoluuchazeči'!B728+'Finance - spoluuchazeči'!B674+'Finance - spoluuchazeči'!B620+'Finance - spoluuchazeči'!B566+'Finance - spoluuchazeči'!B512+'Finance - spoluuchazeči'!B458+'Finance - spoluuchazeči'!B404+'Finance - spoluuchazeči'!B350+'Finance - spoluuchazeči'!B296+'Finance - spoluuchazeči'!B242+'Finance - spoluuchazeči'!B188+'Finance - spoluuchazeči'!B134+'Finance - spoluuchazeči'!B80 -> 0 | J16: 2 | L16: ='Finance - spoluuchazeči'!B107 -> 0 | M16: =IF(L16>0,1,0) -> 0 | N16: ='Finance - spoluuchazeči'!H66 -> 0
A17: Průmyslový výzkum (aplikovaný) | B17: ='Finance - uchazeč'!B27+'Finance - spoluuchazeči'!B27+'Finance - spoluuchazeči'!B729+'Finance - spoluuchazeči'!B675+'Finance - spoluuchazeči'!B621+'Finance - spoluuchazeči'!B567+'Finance - spoluuchazeči'!B513+'Finance - spoluuchazeči'!B459+'Finance - spoluuchazeči'!B405+'Finance - spoluuchazeči'!B351+'Finance - spoluuchazeči'!B297+'Finance - spoluuchazeči'!B243+'Finance - spoluuchazeči'!B189+'Finance - spoluuchazeči'!B135+'Finance - spoluuchazeči'!B81 -> 0 | J17: 3 | L17: ='Finance - spoluuchazeči'!B161 -> 0 | M17: =IF(L17>0,1,0) -> 0 | N17: ='Finance - spoluuchazeči'!H120 -> 0
A18: Průmyslový výzkum (aplikovaný) při splnění podmínek | B18: ='Finance - uchazeč'!B28+'Finance - spoluuchazeči'!B28+'Finance - spoluuchazeči'!B730+'Finance - spoluuchazeči'!B676+'Finance - spoluuchazeči'!B622+'Finance - spoluuchazeči'!B568+'Finance - spoluuchazeči'!B514+'Finance - spoluuchazeči'!B460+'Finance - spoluuchazeči'!B406+'Finance - spoluuchazeči'!B352+'Finance - spoluuchazeči'!B298+'Finance - spoluuchazeči'!B244+'Finance - spoluuchazeči'!B190+'Finance - spoluuchazeči'!B136+'Finance - spoluuchazeči'!B82 -> 0 | J18: 4 | L18: ='Finance - spoluuchazeči'!B215 -> 0 | M18: =IF(L18>0,1,0) -> 0 | N18: ='Finance - spoluuchazeči'!H174 -> 0
A19: Experimentální vývoj | B19: ='Finance - uchazeč'!B29+'Finance - spoluuchazeči'!B29+'Finance - spoluuchazeči'!B731+'Finance - spoluuchazeči'!B677+'Finance - spoluuchazeči'!B623+'Finance - spoluuchazeči'!B569+'Finance - spoluuchazeči'!B515+'Finance - spoluuchazeči'!B461+'Finance - spoluuchazeči'!B407+'Finance - spoluuchazeči'!B353+'Finance - spoluuchazeči'!B299+'Finance - spoluuchazeči'!B245+'Finance - spoluuchazeči'!B191+'Finance - spoluuchazeči'!B137+'Finance - spoluuchazeči'!B83 -> 0 | J19: 5 | L19: ='Finance - spoluuchazeči'!B269 -> 0 | M19: =IF(L19>0,1,0) -> 0 | N19: ='Finance - spoluuchazeči'!H228 -> 0
A20: Experimentální vývoj při splnění podmínek | B20: ='Finance - uchazeč'!B30+'Finance - spoluuchazeči'!B30+'Finance - spoluuchazeči'!B732+'Finance - spoluuchazeči'!B678+'Finance - spoluuchazeči'!B624+'Finance - spoluuchazeči'!B570+'Finance - spoluuchazeči'!B516+'Finance - spoluuchazeči'!B462+'Finance - spoluuchazeči'!B408+'Finance - spoluuchazeči'!B354+'Finance - spoluuchazeči'!B300+'Finance - spoluuchazeči'!B246+'Finance - spoluuchazeči'!B192+'Finance - spoluuchazeči'!B138+'Finance - spoluuchazeči'!B84 -> 0 | J20: 6 | L20: ='Finance - spoluuchazeči'!B323 -> 0 | M20: =IF(L20>0,1,0) -> 0 | N20: ='Finance - spoluuchazeči'!H282 -> 0
A21: Celkové náklady uchazeč | B21: =IF(SUM(B16:B20)=H10,H10,"nerovná se") -> 0 | J21: 7 | L21: ='Finance - spoluuchazeči'!B377 -> 0 | M21: =IF(L21>0,1,0) -> 0 | N21: ='Finance - spoluuchazeči'!H336 -> 0
J22: 8 | L22: ='Finance - spoluuchazeči'!B431 -> 0 | M22: =IF(L22>0,1,0) -> 0 | N22: ='Finance - spoluuchazeči'!H390 -> 0
J23: 9 | L23: ='Finance - spoluuchazeči'!B485 -> 0 | M23: =IF(L23>0,1,0) -> 0 | N23: ='Finance - spoluuchazeči'!H444 -> 0
A24: Finanční zajištění projektu uchazeče v CZK | J24: 10 | L24: ='Finance - spoluuchazeči'!B539 -> 0 | M24: =IF(L24>0,1,0) -> 0 | N24: ='Finance - spoluuchazeči'!H498 -> 0
A25: Typ finančního zajištění | B25: Druh | C25: Rok 1 | D25: Rok 2 | E25: Rok 3 | F25: Rok 4 | G25: Rok 5 | H25: Celkem | J25: 11 | L25: ='Finance - spoluuchazeči'!B593 -> 0 | M25: =IF(L25>0,1,0) -> 0 | N25: ='Finance - spoluuchazeči'!H552 -> 0
A26: Celková dotace poskytovatele na projekt | B26: x | C26: =C11 -> 0 | D26: =D11 -> 0 | E26: =E11 -> 0 | F26: =F11 -> 0 | G26: =G11 -> 0 | H26: =SUM(C26:G26) -> 0 | J26: 12 | L26: ='Finance - spoluuchazeči'!B647 -> 0 | M26: =IF(L26>0,1,0) -> 0 | N26: ='Finance - spoluuchazeči'!H606 -> 0
A27: Podpora z ostatních veřejných zdrojů (tuzemských i zahraničních) | B27: Neinvestiční | C27: ='Finance - uchazeč'!C48+'Finance - spoluuchazeči'!C48+'Finance - spoluuchazeči'!C102+'Finance - spoluuchazeči'!C156+'Finance - spoluuchazeči'!C210+'Finance - spoluuchazeči'!C264+'Finance - spoluuchazeči'!C318+'Finance - spoluuchazeči'!C372+'Finance - spoluuchazeči'!C426+'Finance - spoluuchazeči'!C480+'Finance - spoluuchazeči'!C534+'Finance - spoluuchazeči'!C588+'Finance - spoluuchazeči'!C642+'Finance - spoluuchazeči'!C696+'Finance - spoluuchazeči'!C750 -> 0 | D27: ='Finance - uchazeč'!D48+'Finance - spoluuchazeči'!D48+'Finance - spoluuchazeči'!D102+'Finance - spoluuchazeči'!D156+'Finance - spoluuchazeči'!D210+'Finance - spoluuchazeči'!D264+'Finance - spoluuchazeči'!D318+'Finance - spoluuchazeči'!D372+'Finance - spoluuchazeči'!D426+'Finance - spoluuchazeči'!D480+'Finance - spoluuchazeči'!D534+'Finance - spoluuchazeči'!D588+'Finance - spoluuchazeči'!D642+'Finance - spoluuchazeči'!D696+'Finance - spoluuchazeči'!D750 -> 0 | E27: ='Finance - uchazeč'!E48+'Finance - spoluuchazeči'!E48+'Finance - spoluuchazeči'!E102+'Finance - spoluuchazeči'!E156+'Finance - spoluuchazeči'!E210+'Finance - spoluuchazeči'!E264+'Finance - spoluuchazeči'!E318+'Finance - spoluuchazeči'!E372+'Finance - spoluuchazeči'!E426+'Finance - spoluuchazeči'!E480+'Finance - spoluuchazeči'!E534+'Finance - spoluuchazeči'!E588+'Finance - spoluuchazeči'!E642+'Finance - spoluuchazeči'!E696+'Finance - spoluuchazeči'!E750 -> 0 | F27: ='Finance - uchazeč'!F48+'Finance - spoluuchazeči'!F48+'Finance - spoluuchazeči'!F102+'Finance - spoluuchazeči'!F156+'Finance - spoluuchazeči'!F210+'Finance - spoluuchazeči'!F264+'Finance - spoluuchazeči'!F318+'Finance - spoluuchazeči'!F372+'Finance - spoluuchazeči'!F426+'Finance - spoluuchazeči'!F480+'Finance - spoluuchazeči'!F534+'Finance - spoluuchazeči'!F588+'Finance - spoluuchazeči'!F642+'Finance - spoluuchazeči'!F696+'Finance - spoluuchazeči'!F750 -> 0 | G27: ='Finance - uchazeč'!G48+'Finance - spoluuchazeči'!G48+'Finance - spoluuchazeči'!G102+'Finance - spoluuchazeči'!G156+'Finance - spoluuchazeči'!G210+'Finance - spoluuchazeči'!G264+'Finance - spoluuchazeči'!G318+'Finance - spoluuchazeči'!G372+'Finance - spoluuchazeči'!G426+'Finance - spoluuchazeči'!G480+'Finance - spoluuchazeči'!G534+'Finance - spoluuchazeči'!G588+'Finance - spoluuchazeči'!G642+'Finance - spoluuchazeči'!G696+'Finance - spoluuchazeči'!G750 -> 0 | H27: =SUM(C27:G27) -> 0 | J27: 13 | L27: ='Finance - spoluuchazeči'!B701 -> 0 | M27: =IF(L27>0,1,0) -> 0 | N27: ='Finance - spoluuchazeči'!H660 -> 0
A28: Podpora z ostatních veřejných zdrojů (tuzemských i zahraničních) | B28: Investiční | C28: ='Finance - uchazeč'!C49+'Finance - spoluuchazeči'!C49+'Finance - spoluuchazeči'!C103+'Finance - spoluuchazeči'!C157+'Finance - spoluuchazeči'!C211+'Finance - spoluuchazeči'!C265+'Finance - spoluuchazeči'!C319+'Finance - spoluuchazeči'!C373+'Finance - spoluuchazeči'!C427+'Finance - spoluuchazeči'!C481+'Finance - spoluuchazeči'!C535+'Finance - spoluuchazeči'!C589+'Finance - spoluuchazeči'!C643+'Finance - spoluuchazeči'!C697+'Finance - spoluuchazeči'!C751 -> 0 | D28: ='Finance - uchazeč'!D49+'Finance - spoluuchazeči'!D49+'Finance - spoluuchazeči'!D103+'Finance - spoluuchazeči'!D157+'Finance - spoluuchazeči'!D211+'Finance - spoluuchazeči'!D265+'Finance - spoluuchazeči'!D319+'Finance - spoluuchazeči'!D373+'Finance - spoluuchazeči'!D427+'Finance - spoluuchazeči'!D481+'Finance - spoluuchazeči'!D535+'Finance - spoluuchazeči'!D589+'Finance - spoluuchazeči'!D643+'Finance - spoluuchazeči'!D697+'Finance - spoluuchazeči'!D751 -> 0 | E28: ='Finance - uchazeč'!E49+'Finance - spoluuchazeči'!E49+'Finance - spoluuchazeči'!E103+'Finance - spoluuchazeči'!E157+'Finance - spoluuchazeči'!E211+'Finance - spoluuchazeči'!E265+'Finance - spoluuchazeči'!E319+'Finance - spoluuchazeči'!E373+'Finance - spoluuchazeči'!E427+'Finance - spoluuchazeči'!E481+'Finance - spoluuchazeči'!E535+'Finance - spoluuchazeči'!E589+'Finance - spoluuchazeči'!E643+'Finance - spoluuchazeči'!E697+'Finance - spoluuchazeči'!E751 -> 0 | F28: ='Finance - uchazeč'!F49+'Finance - spoluuchazeči'!F49+'Finance - spoluuchazeči'!F103+'Finance - spoluuchazeči'!F157+'Finance - spoluuchazeči'!F211+'Finance - spoluuchazeči'!F265+'Finance - spoluuchazeči'!F319+'Finance - spoluuchazeči'!F373+'Finance - spoluuchazeči'!F427+'Finance - spoluuchazeči'!F481+'Finance - spoluuchazeči'!F535+'Finance - spoluuchazeči'!F589+'Finance - spoluuchazeči'!F643+'Finance - spoluuchazeči'!F697+'Finance - spoluuchazeči'!F751 -> 0 | G28: ='Finance - uchazeč'!G49+'Finance - spoluuchazeči'!G49+'Finance - spoluuchazeči'!G103+'Finance - spoluuchazeči'!G157+'Finance - spoluuchazeči'!G211+'Finance - spoluuchazeči'!G265+'Finance - spoluuchazeči'!G319+'Finance - spoluuchazeči'!G373+'Finance - spoluuchazeči'!G427+'Finance - spoluuchazeči'!G481+'Finance - spoluuchazeči'!G535+'Finance - spoluuchazeči'!G589+'Finance - spoluuchazeči'!G643+'Finance - spoluuchazeči'!G697+'Finance - spoluuchazeči'!G751 -> 0 | H28: =SUM(C28:G28) -> 0 | J28: 14 | L28: ='Finance - spoluuchazeči'!B755 -> 0 | M28: =IF(L28>0,1,0) -> 0 | N28: ='Finance - spoluuchazeči'!H714 -> 0
A29: Podpora z neveřejných zdrojů (vlastní prostředky, soukromé dotace) | B29: Neinvestiční | C29: ='Finance - uchazeč'!C50+'Finance - spoluuchazeči'!C50+'Finance - spoluuchazeči'!C104+'Finance - spoluuchazeči'!C158+'Finance - spoluuchazeči'!C212+'Finance - spoluuchazeči'!C266+'Finance - spoluuchazeči'!C320+'Finance - spoluuchazeči'!C374+'Finance - spoluuchazeči'!C428+'Finance - spoluuchazeči'!C482+'Finance - spoluuchazeči'!C536+'Finance - spoluuchazeči'!C590+'Finance - spoluuchazeči'!C644+'Finance - spoluuchazeči'!C698+'Finance - spoluuchazeči'!C752 -> 0 | D29: ='Finance - uchazeč'!D50+'Finance - spoluuchazeči'!D50+'Finance - spoluuchazeči'!D104+'Finance - spoluuchazeči'!D158+'Finance - spoluuchazeči'!D212+'Finance - spoluuchazeči'!D266+'Finance - spoluuchazeči'!D320+'Finance - spoluuchazeči'!D374+'Finance - spoluuchazeči'!D428+'Finance - spoluuchazeči'!D482+'Finance - spoluuchazeči'!D536+'Finance - spoluuchazeči'!D590+'Finance - spoluuchazeči'!D644+'Finance - spoluuchazeči'!D698+'Finance - spoluuchazeči'!D752 -> 0 | E29: ='Finance - uchazeč'!E50+'Finance - spoluuchazeči'!E50+'Finance - spoluuchazeči'!E104+'Finance - spoluuchazeči'!E158+'Finance - spoluuchazeči'!E212+'Finance - spoluuchazeči'!E266+'Finance - spoluuchazeči'!E320+'Finance - spoluuchazeči'!E374+'Finance - spoluuchazeči'!E428+'Finance - spoluuchazeči'!E482+'Finance - spoluuchazeči'!E536+'Finance - spoluuchazeči'!E590+'Finance - spoluuchazeči'!E644+'Finance - spoluuchazeči'!E698+'Finance - spoluuchazeči'!E752 -> 0 | F29: ='Finance - uchazeč'!F50+'Finance - spoluuchazeči'!F50+'Finance - spoluuchazeči'!F104+'Finance - spoluuchazeči'!F158+'Finance - spoluuchazeči'!F212+'Finance - spoluuchazeči'!F266+'Finance - spoluuchazeči'!F320+'Finance - spoluuchazeči'!F374+'Finance - spoluuchazeči'!F428+'Finance - spoluuchazeči'!F482+'Finance - spoluuchazeči'!F536+'Finance - spoluuchazeči'!F590+'Finance - spoluuchazeči'!F644+'Finance - spoluuchazeči'!F698+'Finance - spoluuchazeči'!F752 -> 0 | G29: ='Finance - uchazeč'!G50+'Finance - spoluuchazeči'!G50+'Finance - spoluuchazeči'!G104+'Finance - spoluuchazeči'!G158+'Finance - spoluuchazeči'!G212+'Finance - spoluuchazeči'!G266+'Finance - spoluuchazeči'!G320+'Finance - spoluuchazeči'!G374+'Finance - spoluuchazeči'!G428+'Finance - spoluuchazeči'!G482+'Finance - spoluuchazeči'!G536+'Finance - spoluuchazeči'!G590+'Finance - spoluuchazeči'!G644+'Finance - spoluuchazeči'!G698+'Finance - spoluuchazeči'!G752 -> 0 | H29: =SUM(C29:G29) -> 0 | J29: Kontrola | L29: =SUM(N14:N28)/H10 -> #DIV/0! | M29: =IF(B32-L29=0,"OK","CHYBA") -> #DIV/0! | N29: =IF(L29>100%,"CHYBA","OK") -> #DIV/0!
A30: Podpora z neveřejných zdrojů (vlastní prostředky, soukromé dotace) | B30: Investiční | C30: ='Finance - uchazeč'!C51+'Finance - spoluuchazeči'!C51+'Finance - spoluuchazeči'!C105+'Finance - spoluuchazeči'!C159+'Finance - spoluuchazeči'!C213+'Finance - spoluuchazeči'!C267+'Finance - spoluuchazeči'!C321+'Finance - spoluuchazeči'!C375+'Finance - spoluuchazeči'!C429+'Finance - spoluuchazeči'!C483+'Finance - spoluuchazeči'!C537+'Finance - spoluuchazeči'!C591+'Finance - spoluuchazeči'!C645+'Finance - spoluuchazeči'!C699+'Finance - spoluuchazeči'!C753 -> 0 | D30: ='Finance - uchazeč'!D51+'Finance - spoluuchazeči'!D51+'Finance - spoluuchazeči'!D105+'Finance - spoluuchazeči'!D159+'Finance - spoluuchazeči'!D213+'Finance - spoluuchazeči'!D267+'Finance - spoluuchazeči'!D321+'Finance - spoluuchazeči'!D375+'Finance - spoluuchazeči'!D429+'Finance - spoluuchazeči'!D483+'Finance - spoluuchazeči'!D537+'Finance - spoluuchazeči'!D591+'Finance - spoluuchazeči'!D645+'Finance - spoluuchazeči'!D699+'Finance - spoluuchazeči'!D753 -> 0 | E30: ='Finance - uchazeč'!E51+'Finance - spoluuchazeči'!E51+'Finance - spoluuchazeči'!E105+'Finance - spoluuchazeči'!E159+'Finance - spoluuchazeči'!E213+'Finance - spoluuchazeči'!E267+'Finance - spoluuchazeči'!E321+'Finance - spoluuchazeči'!E375+'Finance - spoluuchazeči'!E429+'Finance - spoluuchazeči'!E483+'Finance - spoluuchazeči'!E537+'Finance - spoluuchazeči'!E591+'Finance - spoluuchazeči'!E645+'Finance - spoluuchazeči'!E699+'Finance - spoluuchazeči'!E753 -> 0 | F30: ='Finance - uchazeč'!F51+'Finance - spoluuchazeči'!F51+'Finance - spoluuchazeči'!F105+'Finance - spoluuchazeči'!F159+'Finance - spoluuchazeči'!F213+'Finance - spoluuchazeči'!F267+'Finance - spoluuchazeči'!F321+'Finance - spoluuchazeči'!F375+'Finance - spoluuchazeči'!F429+'Finance - spoluuchazeči'!F483+'Finance - spoluuchazeči'!F537+'Finance - spoluuchazeči'!F591+'Finance - spoluuchazeči'!F645+'Finance - spoluuchazeči'!F699+'Finance - spoluuchazeči'!F753 -> 0 | G30: ='Finance - uchazeč'!G51+'Finance - spoluuchazeči'!G51+'Finance - spoluuchazeči'!G105+'Finance - spoluuchazeči'!G159+'Finance - spoluuchazeči'!G213+'Finance - spoluuchazeči'!G267+'Finance - spoluuchazeči'!G321+'Finance - spoluuchazeči'!G375+'Finance - spoluuchazeči'!G429+'Finance - spoluuchazeči'!G483+'Finance - spoluuchazeči'!G537+'Finance - spoluuchazeči'!G591+'Finance - spoluuchazeči'!G645+'Finance - spoluuchazeči'!G699+'Finance - spoluuchazeči'!G753 -> 0 | H30: =SUM(C30:G30) -> 0
A31: Celkové náklady uchazeče ze všech zdrojů financování | B31: x | C31: =SUM(C26:C30) -> 0 | D31: =SUM(D26:D30) -> 0 | E31: =SUM(E26:E30) -> 0 | F31: =SUM(F26:F30) -> 0 | G31: =SUM(G26:G30) -> 0 | H31: =IF(SUM(C31:G31)>H10,"CHYBA",SUM(C31:G31)) -> 0 | J31: Je správně vyplněn typ organizace řešitele?
A32: Míra intenzity podpory u poskytovatele: | B32: =IF(H31=0,0,H26/B21) -> 0 | C32: x | D32: x | E32: x | H32: x | K32: ='Finance - uchazeč'!H22 -> 0
J34: Jsou správně vyplněné typy organizací spoluřešitelů?
J35: 1 | K35: ='Finance - spoluuchazeči'!H22 -> 0
J36: 2 | K36: ='Finance - spoluuchazeči'!H76 -> 0
J37: 3 | K37: ='Finance - spoluuchazeči'!H130 -> 0
J38: 4 | K38: ='Finance - spoluuchazeči'!H184 -> 0
J39: 5 | K39: ='Finance - spoluuchazeči'!H238 -> 0
J40: 6 | K40: ='Finance - spoluuchazeči'!H292 -> 0
J41: 7 | K41: ='Finance - spoluuchazeči'!H346 -> 0
J42: 8 | K42: ='Finance - spoluuchazeči'!H400 -> 0
J43: 9 | K43: ='Finance - spoluuchazeči'!H454 -> 0
...

Sheet Panel
A1: 01 - Metabolické a endokrinní choroby | B1: 01 - Metabolické a endokrinní choroby
A2: 02 - Choroby oběhové soustavy | B2: 02 - Choroby oběhové soustavy
A3: 03 - Nádorové choroby | B3: 03 - Nádorové choroby
A4: 04 - Neurovědy a duševní zdraví | B4: 04 - Neurovědy a duševní zdraví
A5: 05 - Poruchy imunity a infekční choroby | B5: 05 - Poruchy imunity a infekční choroby
A6: 06 - Poruchy orgánové funkce a intenzivní medicína | B6: 06 - Poruchy orgánové funkce a intenzivní medicína
A7: 07 - Věkově specifické skupiny chorob | B7: 07 - Věkově specifické skupiny chorob
A8: 08 - Biomedicínské technologie | B8: 08 - Biomedicínské technologie
A9: 09 - Veřejné zdraví a ošetřovatelství | B9: 09 - Veřejné zdraví a ošetřovatelství
A10: 10 - Muskuloskeletální medicína | B10: 10 - Muskuloskeletální medicína
A15: ANO
A16: NE

Sheet OECD
A1: Kód | B1: Název
A2: 10101 | B2: Pure mathematics | C2: =A2 -> 10101
A3: 10102 | B3: Applied mathematics | C3: =A3 -> 10102
A4: 10103 | B4: Statistics and probability | C4: =A4 -> 10103
A5: 10201 | B5: Computer sciences, information science, bioinformathics (hardware development to be 2.2, social aspect to be 5.8) | C5: =A5 -> 10201
A6: 10300 | B6: Physical sciences | C6: =A6 -> 10300
A7: 10301 | B7: Atomic, molecular and chemical physics (physics of atoms and molecules including collision, interaction with radiation, magnetic resonances, Mössbauer effect) | C7: =A7 -> 10301
A8: 10302 | B8: Condensed matter physics (including formerly solid state physics, supercond.) | C8: =A8 -> 10302
A9: 10303 | B9: Particles and field physics | C9: =A9 -> 10303
A10: 10304 | B10: Nuclear physics | C10: =A10 -> 10304
A11: 10305 | B11: Fluids and plasma physics (including surface physics) | C11: =A11 -> 10305
A12: 10306 | B12: Optics (including laser optics and quantum optics) | C12: =A12 -> 10306
A13: 10307 | B13: Acoustics | C13: =A13 -> 10307
... A209: 10510 | B209: Climatic research | C209: =A209 -> 10510
B210: Vyberte ze seznamu | C210: 0

Sheet Dílčí cíle
A1: Úroveň | B1: Kód | C1: Název | D1: Kód
A2: 2 | B2: 1.1.1 | C2: Sběr, kvalita a aplikace dat o zdravotní péči a chování obyvatel | D2: 1.1.1
A3: 2 | B3: 1.1.2 | C3: Měření dopadů programů a analýza nových programů či legislativních návrhů státními i nezávislými odborníky | D3: 1.1.2
A4: 2 | B4: 1.1.3 | C4: Rozvoj nové metodologie a interdisciplinární spolupráce ve zdravotnictví | D4: 1.1.3
A5: 2 | B5: 1.1.4 | C5: Sociální determinanty zdraví a genderová dimenze | D5: 1.1.4
A6: 2 | B6: 1.2.1 | C6: Digitalizace umožní zlepšení zdraví populace a kvalitu zdravotních služeb | D6: 1.2.1
A7: 2 | B7: 1.2.2 | C7: Digitalizace povede ke zlepšení dostupnosti a efektivity zdravotních služeb a vyšší míru integrace dat v rámci systému poskytovatelů zdravotní péče | D7: 1.2.2
A8: 2 | B8: 1.2.3 | C8: Vyšší míra využití datových zdrojů v českém zdravotním systému | D8: 1.2.3
A9: 2 | B9: 1.3.1 | C9: Analýza struktury poskytovatelů a poskytované sociálně zdravotní péče u seniorů a seniorek (seniorské populaci) | D9: 1.3.1
A10: 2 | B10: 1.3.2 | C10: Analýza a řešení potřeb v oblasti sociálně zdravotní péče u seniorů (zejména u velmi starých osob) | D10: 1.3.2
A11: 2 | B11: 1.3.3 | C11: Raná prevence vzniku a zmírňování dopadů involučních změn včetně využití moderních technologií | D11: 1.3.3
A12: 2 | B12: 1.3.4 | C12: Podpora kvalitní a bezpečné péče o pacienty s ohledem na věkově specifická rizika a prevenci nežádoucích událostí při zajištění dlouhodobé lékařské a ošetřovatelské péče | D12: 1.3.4
A13: 2 | B13: 1.4.1 | C13: Analýza potřeby a spotřeby (využití) zdravotní péče u osob s chronickým onemocněním | D13: 1.4.1
... A96: 2 | B96: 3.9.3 | C96: Inovativní postupy v symptomové léčbě v paliativní péči | D96: 3.9.3
C97: Vyberte ze seznamu | D97: 0

Sheet Typ organizace
A1: Malý podnik
A2: Střední podnik
A3: Velký podnik
A4: Výzkumná organizace

Sheet Druh organizace
A1: Podnikající osoba tuzemská
A2: Fyzická osoba podnikající dle živnostenského zákona nezapsaná v obchodním rejstříku
A3: Fyzická osoba podnikající dle živnostenského zákona zapsaná v obchodním rejstříku
A4: Samostatně hospodařící rolník zapsaný v obchodním rejstříku
A5: Fyzická osoba podnikající dle jiných zákonů než živnostenského a zákona o zemědělství nezapsaná v obchodním rejstříku
A6: Fyzická osoba podnikající dle jiných zákonů než živnostenského a zákona o zemědělství zapsaná v obchodním rejstříku
A7: Zemědělský podnikatel - fyzická osoba nezapsaná v obchodním rejstříku
A8: Zemědělský podnikatel - fyzická osoba zapsaná v obchodním rejstříku
A9: Veřejná obchodní společnost
A10: Společnost s ručením omezeným
A11: Společnost komanditní
A12: Společný podnik
... A98: Subjekt právním řádem výslovně neupravený
